BEGIN:VCALENDAR
VERSION:2.0
PRODID:-//Canberra Burns Club - ECPv6.15.16.1//NONSGML v1.0//EN
CALSCALE:GREGORIAN
METHOD:PUBLISH
X-WR-CALNAME:Canberra Burns Club
X-ORIGINAL-URL:https://www.burnsclub.com.au
X-WR-CALDESC:Events for Canberra Burns Club
REFRESH-INTERVAL;VALUE=DURATION:PT1H
X-Robots-Tag:noindex
X-PUBLISHED-TTL:PT1H
BEGIN:VTIMEZONE
TZID:Australia/Sydney
BEGIN:STANDARD
TZOFFSETFROM:+1100
TZOFFSETTO:+1000
TZNAME:AEST
DTSTART:20210403T160000
END:STANDARD
BEGIN:DAYLIGHT
TZOFFSETFROM:+1000
TZOFFSETTO:+1100
TZNAME:AEDT
DTSTART:20211002T160000
END:DAYLIGHT
BEGIN:STANDARD
TZOFFSETFROM:+1100
TZOFFSETTO:+1000
TZNAME:AEST
DTSTART:20220402T160000
END:STANDARD
BEGIN:DAYLIGHT
TZOFFSETFROM:+1000
TZOFFSETTO:+1100
TZNAME:AEDT
DTSTART:20221001T160000
END:DAYLIGHT
BEGIN:STANDARD
TZOFFSETFROM:+1100
TZOFFSETTO:+1000
TZNAME:AEST
DTSTART:20230401T160000
END:STANDARD
BEGIN:DAYLIGHT
TZOFFSETFROM:+1000
TZOFFSETTO:+1100
TZNAME:AEDT
DTSTART:20230930T160000
END:DAYLIGHT
END:VTIMEZONE
BEGIN:VEVENT
DTSTART;TZID=Australia/Sydney:20220123T150000
DTEND;TZID=Australia/Sydney:20220123T180000
DTSTAMP:20260424T225154
CREATED:20211214T104830Z
LAST-MODIFIED:20211214T104831Z
UID:1019-1642950000-1642960800@www.burnsclub.com.au
SUMMARY:Just Us Duo - Live at The Glen
DESCRIPTION:Sit back and relax to all your favourite hits of the 60’s and 70’s backed up with smooth vocal harmony\, keys and guitar to give a rich full sound.\nBar meals available or join us after a meal in the amazing all you can eat Star Buffet.\nLive at The Glen is a newly established entertainment hub created by the Burns Club to provide locals with a first rate program of live music and other entertainment.\nWith support from the ACT and Federal Governments the Club will present a wide variety of local talent over an extensive program of events to kick start this excellent new venue.\nPerformer Enquiries to Funnell Entertainment.
URL:https://www.burnsclub.com.au/event/just-us-duo-live-at-the-glen/
LOCATION:Canberra Burns\, 28 Kett St. Kambah\,\, ACT\, 2902\, Australia
CATEGORIES:Entertainment,Homepage
ATTACH;FMTTYPE=image/jpeg:https://www.burnsclub.com.au/wp-content/uploads/2021/12/BC_Event-WEB-7.jpg
END:VEVENT
END:VCALENDAR