BEGIN:VCALENDAR
VERSION:2.0
PRODID:-//Canberra Burns Club - ECPv6.15.16.1//NONSGML v1.0//EN
CALSCALE:GREGORIAN
METHOD:PUBLISH
X-ORIGINAL-URL:https://www.burnsclub.com.au
X-WR-CALDESC:Events for Canberra Burns Club
REFRESH-INTERVAL;VALUE=DURATION:PT1H
X-Robots-Tag:noindex
X-PUBLISHED-TTL:PT1H
BEGIN:VTIMEZONE
TZID:Australia/Sydney
BEGIN:STANDARD
TZOFFSETFROM:+1100
TZOFFSETTO:+1000
TZNAME:AEST
DTSTART:20250405T160000
END:STANDARD
BEGIN:DAYLIGHT
TZOFFSETFROM:+1000
TZOFFSETTO:+1100
TZNAME:AEDT
DTSTART:20251004T160000
END:DAYLIGHT
BEGIN:STANDARD
TZOFFSETFROM:+1100
TZOFFSETTO:+1000
TZNAME:AEST
DTSTART:20260404T160000
END:STANDARD
BEGIN:DAYLIGHT
TZOFFSETFROM:+1000
TZOFFSETTO:+1100
TZNAME:AEDT
DTSTART:20261003T160000
END:DAYLIGHT
BEGIN:STANDARD
TZOFFSETFROM:+1100
TZOFFSETTO:+1000
TZNAME:AEST
DTSTART:20270403T160000
END:STANDARD
BEGIN:DAYLIGHT
TZOFFSETFROM:+1000
TZOFFSETTO:+1100
TZNAME:AEDT
DTSTART:20271002T160000
END:DAYLIGHT
END:VTIMEZONE
BEGIN:VEVENT
DTSTART;TZID=Australia/Sydney:20260419T120000
DTEND;TZID=Australia/Sydney:20260419T120000
DTSTAMP:20260426T002552
CREATED:20260402T025127Z
LAST-MODIFIED:20260402T025127Z
UID:3400-1776600000-1776600000@www.burnsclub.com.au
SUMMARY:Sunday Roast
DESCRIPTION:Sunday Roasts are coming to the Burns Golf Club! From 12pm\, treat yourself to the best winter warmer. Protein will be changing weekly\, so keep an eye out!
URL:https://www.burnsclub.com.au/event/sunday-roast/2026-04-19/
LOCATION:Burns Golf Club Belconnen\, 140 Britten-Jones Drive\, Holt\, ACT\, 2615\, Australia
CATEGORIES:Belconnen
ATTACH;FMTTYPE=image/jpeg:https://www.burnsclub.com.au/wp-content/uploads/2026/03/BGC_SundayRoast_Web.jpg
END:VEVENT
BEGIN:VEVENT
DTSTART;TZID=Australia/Sydney:20260419T160000
DTEND;TZID=Australia/Sydney:20260419T173000
DTSTAMP:20260426T002552
CREATED:20260402T005840Z
LAST-MODIFIED:20260402T005840Z
UID:3235-1776614400-1776619800@www.burnsclub.com.au
SUMMARY:Twilight Golf
DESCRIPTION:From 4pm weekends\, you can play as many holes as you like for just $25!
URL:https://www.burnsclub.com.au/event/twilight-golf-2/2026-04-19/
LOCATION:Burns Golf Club Belconnen\, 140 Britten-Jones Drive\, Holt\, ACT\, 2615\, Australia
CATEGORIES:Belconnen
ATTACH;FMTTYPE=image/jpeg:https://www.burnsclub.com.au/wp-content/uploads/2026/04/BurnsClub_TwilightGolf_Web.jpg
END:VEVENT
END:VCALENDAR