BEGIN:VCALENDAR
VERSION:2.0
PRODID:-//Canberra Burns Club - ECPv6.15.16.1//NONSGML v1.0//EN
CALSCALE:GREGORIAN
METHOD:PUBLISH
X-WR-CALNAME:Canberra Burns Club
X-ORIGINAL-URL:https://www.burnsclub.com.au
X-WR-CALDESC:Events for Canberra Burns Club
REFRESH-INTERVAL;VALUE=DURATION:PT1H
X-Robots-Tag:noindex
X-PUBLISHED-TTL:PT1H
BEGIN:VTIMEZONE
TZID:Australia/Sydney
BEGIN:STANDARD
TZOFFSETFROM:+1100
TZOFFSETTO:+1000
TZNAME:AEST
DTSTART:20250405T160000
END:STANDARD
BEGIN:DAYLIGHT
TZOFFSETFROM:+1000
TZOFFSETTO:+1100
TZNAME:AEDT
DTSTART:20251004T160000
END:DAYLIGHT
BEGIN:STANDARD
TZOFFSETFROM:+1100
TZOFFSETTO:+1000
TZNAME:AEST
DTSTART:20260404T160000
END:STANDARD
BEGIN:DAYLIGHT
TZOFFSETFROM:+1000
TZOFFSETTO:+1100
TZNAME:AEDT
DTSTART:20261003T160000
END:DAYLIGHT
BEGIN:STANDARD
TZOFFSETFROM:+1100
TZOFFSETTO:+1000
TZNAME:AEST
DTSTART:20270403T160000
END:STANDARD
BEGIN:DAYLIGHT
TZOFFSETFROM:+1000
TZOFFSETTO:+1100
TZNAME:AEDT
DTSTART:20271002T160000
END:DAYLIGHT
END:VTIMEZONE
BEGIN:VEVENT
DTSTART;TZID=Australia/Sydney:20260425T160000
DTEND;TZID=Australia/Sydney:20260425T173000
DTSTAMP:20260425T213114
CREATED:20260402T005840Z
LAST-MODIFIED:20260402T005840Z
UID:3236-1777132800-1777138200@www.burnsclub.com.au
SUMMARY:Twilight Golf
DESCRIPTION:From 4pm weekends\, you can play as many holes as you like for just $25!
URL:https://www.burnsclub.com.au/event/twilight-golf-2/2026-04-25/
LOCATION:Burns Golf Club Belconnen\, 140 Britten-Jones Drive\, Holt\, ACT\, 2615\, Australia
CATEGORIES:Belconnen
ATTACH;FMTTYPE=image/jpeg:https://www.burnsclub.com.au/wp-content/uploads/2026/04/BurnsClub_TwilightGolf_Web.jpg
END:VEVENT
BEGIN:VEVENT
DTSTART;TZID=Australia/Sydney:20260425T193000
DTEND;TZID=Australia/Sydney:20260425T223000
DTSTAMP:20260425T213114
CREATED:20260305T232310Z
LAST-MODIFIED:20260305T232310Z
UID:3142-1777145400-1777156200@www.burnsclub.com.au
SUMMARY:Zero Alpha
DESCRIPTION:Recently formed\, Zero Alpha are all Army Veterans\, each of them with an extensive background in playing both covers and originals around the region and are quickly building a reputation for presenting an exciting night of dancing to classic favourites played with energy and enthusiasm!Bar meals available or join us after a meal in the amazing all you can eat Star Buffet.Performer enquiries to: andrew@soundshop.com.au
URL:https://www.burnsclub.com.au/event/zero-alpha-3/
CATEGORIES:Entertainment,Homepage
ATTACH;FMTTYPE=image/jpeg:https://www.burnsclub.com.au/wp-content/uploads/2025/11/ZERO-ALPHA-WEB-NEW.jpg
END:VEVENT
END:VCALENDAR