BEGIN:VCALENDAR
VERSION:2.0
PRODID:-//Canberra Burns Club - ECPv6.15.16.1//NONSGML v1.0//EN
CALSCALE:GREGORIAN
METHOD:PUBLISH
X-WR-CALNAME:Canberra Burns Club
X-ORIGINAL-URL:https://www.burnsclub.com.au
X-WR-CALDESC:Events for Canberra Burns Club
REFRESH-INTERVAL;VALUE=DURATION:PT1H
X-Robots-Tag:noindex
X-PUBLISHED-TTL:PT1H
BEGIN:VTIMEZONE
TZID:Australia/Sydney
BEGIN:STANDARD
TZOFFSETFROM:+1100
TZOFFSETTO:+1000
TZNAME:AEST
DTSTART:20250405T160000
END:STANDARD
BEGIN:DAYLIGHT
TZOFFSETFROM:+1000
TZOFFSETTO:+1100
TZNAME:AEDT
DTSTART:20251004T160000
END:DAYLIGHT
BEGIN:STANDARD
TZOFFSETFROM:+1100
TZOFFSETTO:+1000
TZNAME:AEST
DTSTART:20260404T160000
END:STANDARD
BEGIN:DAYLIGHT
TZOFFSETFROM:+1000
TZOFFSETTO:+1100
TZNAME:AEDT
DTSTART:20261003T160000
END:DAYLIGHT
BEGIN:STANDARD
TZOFFSETFROM:+1100
TZOFFSETTO:+1000
TZNAME:AEST
DTSTART:20270403T160000
END:STANDARD
BEGIN:DAYLIGHT
TZOFFSETFROM:+1000
TZOFFSETTO:+1100
TZNAME:AEDT
DTSTART:20271002T160000
END:DAYLIGHT
END:VTIMEZONE
BEGIN:VEVENT
DTSTART;TZID=Australia/Sydney:20260912T160000
DTEND;TZID=Australia/Sydney:20260912T173000
DTSTAMP:20260422T212100
CREATED:20260402T005840Z
LAST-MODIFIED:20260402T005840Z
UID:3599-1789228800-1789234200@www.burnsclub.com.au
SUMMARY:Twilight Golf
DESCRIPTION:From 4pm weekends\, you can play as many holes as you like for just $25!
URL:https://www.burnsclub.com.au/event/twilight-golf-2/2026-09-12/
LOCATION:Burns Golf Club Belconnen\, 140 Britten-Jones Drive\, Holt\, ACT\, 2615\, Australia
CATEGORIES:Belconnen
ATTACH;FMTTYPE=image/jpeg:https://www.burnsclub.com.au/wp-content/uploads/2026/04/BurnsClub_TwilightGolf_Web.jpg
END:VEVENT
BEGIN:VEVENT
DTSTART;TZID=Australia/Sydney:20260913T120000
DTEND;TZID=Australia/Sydney:20260913T120000
DTSTAMP:20260422T212100
CREATED:20260402T025127Z
LAST-MODIFIED:20260402T025127Z
UID:3423-1789300800-1789300800@www.burnsclub.com.au
SUMMARY:Sunday Roast
DESCRIPTION:Sunday Roasts are coming to the Burns Golf Club! From 12pm\, treat yourself to the best winter warmer. Protein will be changing weekly\, so keep an eye out!
URL:https://www.burnsclub.com.au/event/sunday-roast/2026-09-13/
LOCATION:Burns Golf Club Belconnen\, 140 Britten-Jones Drive\, Holt\, ACT\, 2615\, Australia
CATEGORIES:Belconnen
ATTACH;FMTTYPE=image/jpeg:https://www.burnsclub.com.au/wp-content/uploads/2026/03/BGC_SundayRoast_Web.jpg
END:VEVENT
BEGIN:VEVENT
DTSTART;TZID=Australia/Sydney:20260913T160000
DTEND;TZID=Australia/Sydney:20260913T173000
DTSTAMP:20260422T212100
CREATED:20260402T005840Z
LAST-MODIFIED:20260402T005840Z
UID:3600-1789315200-1789320600@www.burnsclub.com.au
SUMMARY:Twilight Golf
DESCRIPTION:From 4pm weekends\, you can play as many holes as you like for just $25!
URL:https://www.burnsclub.com.au/event/twilight-golf-2/2026-09-13/
LOCATION:Burns Golf Club Belconnen\, 140 Britten-Jones Drive\, Holt\, ACT\, 2615\, Australia
CATEGORIES:Belconnen
ATTACH;FMTTYPE=image/jpeg:https://www.burnsclub.com.au/wp-content/uploads/2026/04/BurnsClub_TwilightGolf_Web.jpg
END:VEVENT
BEGIN:VEVENT
DTSTART;TZID=Australia/Sydney:20260914T190000
DTEND;TZID=Australia/Sydney:20260914T190000
DTSTAMP:20260422T212100
CREATED:20260402T010302Z
LAST-MODIFIED:20260402T010302Z
UID:3328-1789412400-1789412400@www.burnsclub.com.au
SUMMARY:Trivia
DESCRIPTION:On Monday nights from 7pm we’ve got trivia on! Bring your mates and test your knowledge!
URL:https://www.burnsclub.com.au/event/trivia-2/2026-09-14/
LOCATION:Burns Golf Club Belconnen\, 140 Britten-Jones Drive\, Holt\, ACT\, 2615\, Australia
CATEGORIES:Belconnen
ATTACH;FMTTYPE=image/jpeg:https://www.burnsclub.com.au/wp-content/uploads/2025/02/Trivia-Night-GOLF-CLUB-WEB.jpg
END:VEVENT
BEGIN:VEVENT
DTSTART;TZID=Australia/Sydney:20260915T173000
DTEND;TZID=Australia/Sydney:20260915T173000
DTSTAMP:20260422T212100
CREATED:20260402T010718Z
LAST-MODIFIED:20260402T010718Z
UID:3303-1789493400-1789493400@www.burnsclub.com.au
SUMMARY:Schnitzel Night
DESCRIPTION:On Tuesday nights from 5:30pm\, treat yourself to one of our delicious schnitzels for only $15 with your choice of sauce with chips and salad! \n**Non-members price $16
URL:https://www.burnsclub.com.au/event/schnitzel-night/2026-09-15/
LOCATION:Burns Golf Club Belconnen\, 140 Britten-Jones Drive\, Holt\, ACT\, 2615\, Australia
CATEGORIES:Belconnen
ATTACH;FMTTYPE=image/jpeg:https://www.burnsclub.com.au/wp-content/uploads/2024/03/Schnitzel-Night-WEB.jpg
END:VEVENT
BEGIN:VEVENT
DTSTART;TZID=Australia/Sydney:20260916T173000
DTEND;TZID=Australia/Sydney:20260916T173000
DTSTAMP:20260422T212100
CREATED:20260402T011705Z
LAST-MODIFIED:20260402T011705Z
UID:3558-1789579800-1789579800@www.burnsclub.com.au
SUMMARY:Curry Night
DESCRIPTION:On Wednesday nights from 5:30pm\, treat yourself to one of our delicious curries for only $20! Curries will be changing every Wednesday\, so keep an eye out!
URL:https://www.burnsclub.com.au/event/curry-night/2026-09-16/
LOCATION:Burns Golf Club Belconnen\, 140 Britten-Jones Drive\, Holt\, ACT\, 2615\, Australia
CATEGORIES:Belconnen
ATTACH;FMTTYPE=image/jpeg:https://www.burnsclub.com.au/wp-content/uploads/2026/03/BGC_CurryNight_Web.jpg
END:VEVENT
BEGIN:VEVENT
DTSTART;TZID=Australia/Sydney:20260916T180000
DTEND;TZID=Australia/Sydney:20260916T220000
DTSTAMP:20260422T212100
CREATED:20260402T024422Z
LAST-MODIFIED:20260402T024422Z
UID:3526-1789581600-1789596000@www.burnsclub.com.au
SUMMARY:Double Down
DESCRIPTION:On Wednesday nights between the hours of 6pm – 10pm redeem your member points for double the cash. \nTerms & Conditions apply\, see in-venue for details.
URL:https://www.burnsclub.com.au/event/double-down-2/2026-09-16/
LOCATION:Burns Golf Club Belconnen\, 140 Britten-Jones Drive\, Holt\, ACT\, 2615\, Australia
CATEGORIES:Belconnen
ATTACH;FMTTYPE=image/jpeg:https://www.burnsclub.com.au/wp-content/uploads/2020/11/BC_Web-Thumbs3.jpg
END:VEVENT
BEGIN:VEVENT
DTSTART;TZID=Australia/Sydney:20260917T173000
DTEND;TZID=Australia/Sydney:20260917T173000
DTSTAMP:20260422T212100
CREATED:20260402T011838Z
LAST-MODIFIED:20260402T011838Z
UID:3363-1789666200-1789666200@www.burnsclub.com.au
SUMMARY:Loaded Schnitzel Night
DESCRIPTION:On Thursday nights from 5:30pm\, indulge in one of our loaded schnitzels for only $22! \nPick from your choice of: chicken parmigiana\, mexican parmigiana\, or meat lovers parmigiana!
URL:https://www.burnsclub.com.au/event/loaded-schnitzel-night/2026-09-17/
LOCATION:ACT
CATEGORIES:Belconnen
ATTACH;FMTTYPE=image/jpeg:https://www.burnsclub.com.au/wp-content/uploads/2024/04/BC_Loaded-Schnitzel-Night-WEB.jpg
END:VEVENT
BEGIN:VEVENT
DTSTART;TZID=Australia/Sydney:20260917T173000
DTEND;TZID=Australia/Sydney:20260917T173000
DTSTAMP:20260422T212100
CREATED:20260402T024624Z
LAST-MODIFIED:20260402T024624Z
UID:3497-1789666200-1789666200@www.burnsclub.com.au
SUMMARY:Meat Raffles
DESCRIPTION:On Thursday and Friday nights we have our meat raffles\, with 12 meat trays from Elite Meats up for grabs! Tickets are on sale from 5:30pm and draws start from 7:00pm. \nTerms & Conditions apply\, see in-venue for details.
URL:https://www.burnsclub.com.au/event/meat-raffles/2026-09-17/
LOCATION:Burns Golf Club Belconnen\, 140 Britten-Jones Drive\, Holt\, ACT\, 2615\, Australia
CATEGORIES:Belconnen
ATTACH;FMTTYPE=image/jpeg:https://www.burnsclub.com.au/wp-content/uploads/2025/02/BC_Meat-Raffle-Golf-Club-WEB.jpg
END:VEVENT
BEGIN:VEVENT
DTSTART;TZID=Australia/Sydney:20260918T173000
DTEND;TZID=Australia/Sydney:20260918T173000
DTSTAMP:20260422T212100
CREATED:20260402T024624Z
LAST-MODIFIED:20260402T024624Z
UID:3498-1789752600-1789752600@www.burnsclub.com.au
SUMMARY:Meat Raffles
DESCRIPTION:On Thursday and Friday nights we have our meat raffles\, with 12 meat trays from Elite Meats up for grabs! Tickets are on sale from 5:30pm and draws start from 7:00pm. \nTerms & Conditions apply\, see in-venue for details.
URL:https://www.burnsclub.com.au/event/meat-raffles/2026-09-18/
LOCATION:Burns Golf Club Belconnen\, 140 Britten-Jones Drive\, Holt\, ACT\, 2615\, Australia
CATEGORIES:Belconnen
ATTACH;FMTTYPE=image/jpeg:https://www.burnsclub.com.au/wp-content/uploads/2025/02/BC_Meat-Raffle-Golf-Club-WEB.jpg
END:VEVENT
BEGIN:VEVENT
DTSTART;TZID=Australia/Sydney:20260919T160000
DTEND;TZID=Australia/Sydney:20260919T173000
DTSTAMP:20260422T212100
CREATED:20260402T005840Z
LAST-MODIFIED:20260402T005840Z
UID:3601-1789833600-1789839000@www.burnsclub.com.au
SUMMARY:Twilight Golf
DESCRIPTION:From 4pm weekends\, you can play as many holes as you like for just $25!
URL:https://www.burnsclub.com.au/event/twilight-golf-2/2026-09-19/
LOCATION:Burns Golf Club Belconnen\, 140 Britten-Jones Drive\, Holt\, ACT\, 2615\, Australia
CATEGORIES:Belconnen
ATTACH;FMTTYPE=image/jpeg:https://www.burnsclub.com.au/wp-content/uploads/2026/04/BurnsClub_TwilightGolf_Web.jpg
END:VEVENT
BEGIN:VEVENT
DTSTART;TZID=Australia/Sydney:20260920T120000
DTEND;TZID=Australia/Sydney:20260920T120000
DTSTAMP:20260422T212100
CREATED:20260402T025127Z
LAST-MODIFIED:20260402T025127Z
UID:3424-1789905600-1789905600@www.burnsclub.com.au
SUMMARY:Sunday Roast
DESCRIPTION:Sunday Roasts are coming to the Burns Golf Club! From 12pm\, treat yourself to the best winter warmer. Protein will be changing weekly\, so keep an eye out!
URL:https://www.burnsclub.com.au/event/sunday-roast/2026-09-20/
LOCATION:Burns Golf Club Belconnen\, 140 Britten-Jones Drive\, Holt\, ACT\, 2615\, Australia
CATEGORIES:Belconnen
ATTACH;FMTTYPE=image/jpeg:https://www.burnsclub.com.au/wp-content/uploads/2026/03/BGC_SundayRoast_Web.jpg
END:VEVENT
BEGIN:VEVENT
DTSTART;TZID=Australia/Sydney:20260920T160000
DTEND;TZID=Australia/Sydney:20260920T173000
DTSTAMP:20260422T212100
CREATED:20260402T005840Z
LAST-MODIFIED:20260402T005840Z
UID:3602-1789920000-1789925400@www.burnsclub.com.au
SUMMARY:Twilight Golf
DESCRIPTION:From 4pm weekends\, you can play as many holes as you like for just $25!
URL:https://www.burnsclub.com.au/event/twilight-golf-2/2026-09-20/
LOCATION:Burns Golf Club Belconnen\, 140 Britten-Jones Drive\, Holt\, ACT\, 2615\, Australia
CATEGORIES:Belconnen
ATTACH;FMTTYPE=image/jpeg:https://www.burnsclub.com.au/wp-content/uploads/2026/04/BurnsClub_TwilightGolf_Web.jpg
END:VEVENT
BEGIN:VEVENT
DTSTART;TZID=Australia/Sydney:20260921T190000
DTEND;TZID=Australia/Sydney:20260921T190000
DTSTAMP:20260422T212100
CREATED:20260402T010302Z
LAST-MODIFIED:20260402T010302Z
UID:3329-1790017200-1790017200@www.burnsclub.com.au
SUMMARY:Trivia
DESCRIPTION:On Monday nights from 7pm we’ve got trivia on! Bring your mates and test your knowledge!
URL:https://www.burnsclub.com.au/event/trivia-2/2026-09-21/
LOCATION:Burns Golf Club Belconnen\, 140 Britten-Jones Drive\, Holt\, ACT\, 2615\, Australia
CATEGORIES:Belconnen
ATTACH;FMTTYPE=image/jpeg:https://www.burnsclub.com.au/wp-content/uploads/2025/02/Trivia-Night-GOLF-CLUB-WEB.jpg
END:VEVENT
BEGIN:VEVENT
DTSTART;TZID=Australia/Sydney:20260922T173000
DTEND;TZID=Australia/Sydney:20260922T173000
DTSTAMP:20260422T212100
CREATED:20260402T010718Z
LAST-MODIFIED:20260402T010718Z
UID:3304-1790098200-1790098200@www.burnsclub.com.au
SUMMARY:Schnitzel Night
DESCRIPTION:On Tuesday nights from 5:30pm\, treat yourself to one of our delicious schnitzels for only $15 with your choice of sauce with chips and salad! \n**Non-members price $16
URL:https://www.burnsclub.com.au/event/schnitzel-night/2026-09-22/
LOCATION:Burns Golf Club Belconnen\, 140 Britten-Jones Drive\, Holt\, ACT\, 2615\, Australia
CATEGORIES:Belconnen
ATTACH;FMTTYPE=image/jpeg:https://www.burnsclub.com.au/wp-content/uploads/2024/03/Schnitzel-Night-WEB.jpg
END:VEVENT
BEGIN:VEVENT
DTSTART;TZID=Australia/Sydney:20260923T173000
DTEND;TZID=Australia/Sydney:20260923T173000
DTSTAMP:20260422T212100
CREATED:20260402T011705Z
LAST-MODIFIED:20260402T011705Z
UID:3559-1790184600-1790184600@www.burnsclub.com.au
SUMMARY:Curry Night
DESCRIPTION:On Wednesday nights from 5:30pm\, treat yourself to one of our delicious curries for only $20! Curries will be changing every Wednesday\, so keep an eye out!
URL:https://www.burnsclub.com.au/event/curry-night/2026-09-23/
LOCATION:Burns Golf Club Belconnen\, 140 Britten-Jones Drive\, Holt\, ACT\, 2615\, Australia
CATEGORIES:Belconnen
ATTACH;FMTTYPE=image/jpeg:https://www.burnsclub.com.au/wp-content/uploads/2026/03/BGC_CurryNight_Web.jpg
END:VEVENT
BEGIN:VEVENT
DTSTART;TZID=Australia/Sydney:20260923T180000
DTEND;TZID=Australia/Sydney:20260923T220000
DTSTAMP:20260422T212100
CREATED:20260402T024422Z
LAST-MODIFIED:20260402T024422Z
UID:3527-1790186400-1790200800@www.burnsclub.com.au
SUMMARY:Double Down
DESCRIPTION:On Wednesday nights between the hours of 6pm – 10pm redeem your member points for double the cash. \nTerms & Conditions apply\, see in-venue for details.
URL:https://www.burnsclub.com.au/event/double-down-2/2026-09-23/
LOCATION:Burns Golf Club Belconnen\, 140 Britten-Jones Drive\, Holt\, ACT\, 2615\, Australia
CATEGORIES:Belconnen
ATTACH;FMTTYPE=image/jpeg:https://www.burnsclub.com.au/wp-content/uploads/2020/11/BC_Web-Thumbs3.jpg
END:VEVENT
BEGIN:VEVENT
DTSTART;TZID=Australia/Sydney:20260924T173000
DTEND;TZID=Australia/Sydney:20260924T173000
DTSTAMP:20260422T212100
CREATED:20260402T011838Z
LAST-MODIFIED:20260402T011838Z
UID:3364-1790271000-1790271000@www.burnsclub.com.au
SUMMARY:Loaded Schnitzel Night
DESCRIPTION:On Thursday nights from 5:30pm\, indulge in one of our loaded schnitzels for only $22! \nPick from your choice of: chicken parmigiana\, mexican parmigiana\, or meat lovers parmigiana!
URL:https://www.burnsclub.com.au/event/loaded-schnitzel-night/2026-09-24/
LOCATION:ACT
CATEGORIES:Belconnen
ATTACH;FMTTYPE=image/jpeg:https://www.burnsclub.com.au/wp-content/uploads/2024/04/BC_Loaded-Schnitzel-Night-WEB.jpg
END:VEVENT
BEGIN:VEVENT
DTSTART;TZID=Australia/Sydney:20260924T173000
DTEND;TZID=Australia/Sydney:20260924T173000
DTSTAMP:20260422T212100
CREATED:20260402T024624Z
LAST-MODIFIED:20260402T024624Z
UID:3499-1790271000-1790271000@www.burnsclub.com.au
SUMMARY:Meat Raffles
DESCRIPTION:On Thursday and Friday nights we have our meat raffles\, with 12 meat trays from Elite Meats up for grabs! Tickets are on sale from 5:30pm and draws start from 7:00pm. \nTerms & Conditions apply\, see in-venue for details.
URL:https://www.burnsclub.com.au/event/meat-raffles/2026-09-24/
LOCATION:Burns Golf Club Belconnen\, 140 Britten-Jones Drive\, Holt\, ACT\, 2615\, Australia
CATEGORIES:Belconnen
ATTACH;FMTTYPE=image/jpeg:https://www.burnsclub.com.au/wp-content/uploads/2025/02/BC_Meat-Raffle-Golf-Club-WEB.jpg
END:VEVENT
BEGIN:VEVENT
DTSTART;TZID=Australia/Sydney:20260925T173000
DTEND;TZID=Australia/Sydney:20260925T173000
DTSTAMP:20260422T212100
CREATED:20260402T024624Z
LAST-MODIFIED:20260402T024624Z
UID:3500-1790357400-1790357400@www.burnsclub.com.au
SUMMARY:Meat Raffles
DESCRIPTION:On Thursday and Friday nights we have our meat raffles\, with 12 meat trays from Elite Meats up for grabs! Tickets are on sale from 5:30pm and draws start from 7:00pm. \nTerms & Conditions apply\, see in-venue for details.
URL:https://www.burnsclub.com.au/event/meat-raffles/2026-09-25/
LOCATION:Burns Golf Club Belconnen\, 140 Britten-Jones Drive\, Holt\, ACT\, 2615\, Australia
CATEGORIES:Belconnen
ATTACH;FMTTYPE=image/jpeg:https://www.burnsclub.com.au/wp-content/uploads/2025/02/BC_Meat-Raffle-Golf-Club-WEB.jpg
END:VEVENT
BEGIN:VEVENT
DTSTART;TZID=Australia/Sydney:20260926T160000
DTEND;TZID=Australia/Sydney:20260926T173000
DTSTAMP:20260422T212100
CREATED:20260402T005840Z
LAST-MODIFIED:20260402T005840Z
UID:3603-1790438400-1790443800@www.burnsclub.com.au
SUMMARY:Twilight Golf
DESCRIPTION:From 4pm weekends\, you can play as many holes as you like for just $25!
URL:https://www.burnsclub.com.au/event/twilight-golf-2/2026-09-26/
LOCATION:Burns Golf Club Belconnen\, 140 Britten-Jones Drive\, Holt\, ACT\, 2615\, Australia
CATEGORIES:Belconnen
ATTACH;FMTTYPE=image/jpeg:https://www.burnsclub.com.au/wp-content/uploads/2026/04/BurnsClub_TwilightGolf_Web.jpg
END:VEVENT
BEGIN:VEVENT
DTSTART;TZID=Australia/Sydney:20260927T120000
DTEND;TZID=Australia/Sydney:20260927T120000
DTSTAMP:20260422T212100
CREATED:20260402T025127Z
LAST-MODIFIED:20260402T025127Z
UID:3425-1790510400-1790510400@www.burnsclub.com.au
SUMMARY:Sunday Roast
DESCRIPTION:Sunday Roasts are coming to the Burns Golf Club! From 12pm\, treat yourself to the best winter warmer. Protein will be changing weekly\, so keep an eye out!
URL:https://www.burnsclub.com.au/event/sunday-roast/2026-09-27/
LOCATION:Burns Golf Club Belconnen\, 140 Britten-Jones Drive\, Holt\, ACT\, 2615\, Australia
CATEGORIES:Belconnen
ATTACH;FMTTYPE=image/jpeg:https://www.burnsclub.com.au/wp-content/uploads/2026/03/BGC_SundayRoast_Web.jpg
END:VEVENT
BEGIN:VEVENT
DTSTART;TZID=Australia/Sydney:20260927T160000
DTEND;TZID=Australia/Sydney:20260927T173000
DTSTAMP:20260422T212100
CREATED:20260402T005840Z
LAST-MODIFIED:20260402T005840Z
UID:3604-1790524800-1790530200@www.burnsclub.com.au
SUMMARY:Twilight Golf
DESCRIPTION:From 4pm weekends\, you can play as many holes as you like for just $25!
URL:https://www.burnsclub.com.au/event/twilight-golf-2/2026-09-27/
LOCATION:Burns Golf Club Belconnen\, 140 Britten-Jones Drive\, Holt\, ACT\, 2615\, Australia
CATEGORIES:Belconnen
ATTACH;FMTTYPE=image/jpeg:https://www.burnsclub.com.au/wp-content/uploads/2026/04/BurnsClub_TwilightGolf_Web.jpg
END:VEVENT
BEGIN:VEVENT
DTSTART;TZID=Australia/Sydney:20260928T190000
DTEND;TZID=Australia/Sydney:20260928T190000
DTSTAMP:20260422T212100
CREATED:20260402T010302Z
LAST-MODIFIED:20260402T010302Z
UID:3574-1790622000-1790622000@www.burnsclub.com.au
SUMMARY:Trivia
DESCRIPTION:On Monday nights from 7pm we’ve got trivia on! Bring your mates and test your knowledge!
URL:https://www.burnsclub.com.au/event/trivia-2/2026-09-28/
LOCATION:Burns Golf Club Belconnen\, 140 Britten-Jones Drive\, Holt\, ACT\, 2615\, Australia
CATEGORIES:Belconnen
ATTACH;FMTTYPE=image/jpeg:https://www.burnsclub.com.au/wp-content/uploads/2025/02/Trivia-Night-GOLF-CLUB-WEB.jpg
END:VEVENT
BEGIN:VEVENT
DTSTART;TZID=Australia/Sydney:20260929T173000
DTEND;TZID=Australia/Sydney:20260929T173000
DTSTAMP:20260422T212100
CREATED:20260402T010718Z
LAST-MODIFIED:20260402T010718Z
UID:3305-1790703000-1790703000@www.burnsclub.com.au
SUMMARY:Schnitzel Night
DESCRIPTION:On Tuesday nights from 5:30pm\, treat yourself to one of our delicious schnitzels for only $15 with your choice of sauce with chips and salad! \n**Non-members price $16
URL:https://www.burnsclub.com.au/event/schnitzel-night/2026-09-29/
LOCATION:Burns Golf Club Belconnen\, 140 Britten-Jones Drive\, Holt\, ACT\, 2615\, Australia
CATEGORIES:Belconnen
ATTACH;FMTTYPE=image/jpeg:https://www.burnsclub.com.au/wp-content/uploads/2024/03/Schnitzel-Night-WEB.jpg
END:VEVENT
BEGIN:VEVENT
DTSTART;TZID=Australia/Sydney:20260930T173000
DTEND;TZID=Australia/Sydney:20260930T173000
DTSTAMP:20260422T212100
CREATED:20260402T011705Z
LAST-MODIFIED:20260402T011705Z
UID:3560-1790789400-1790789400@www.burnsclub.com.au
SUMMARY:Curry Night
DESCRIPTION:On Wednesday nights from 5:30pm\, treat yourself to one of our delicious curries for only $20! Curries will be changing every Wednesday\, so keep an eye out!
URL:https://www.burnsclub.com.au/event/curry-night/2026-09-30/
LOCATION:Burns Golf Club Belconnen\, 140 Britten-Jones Drive\, Holt\, ACT\, 2615\, Australia
CATEGORIES:Belconnen
ATTACH;FMTTYPE=image/jpeg:https://www.burnsclub.com.au/wp-content/uploads/2026/03/BGC_CurryNight_Web.jpg
END:VEVENT
BEGIN:VEVENT
DTSTART;TZID=Australia/Sydney:20260930T180000
DTEND;TZID=Australia/Sydney:20260930T220000
DTSTAMP:20260422T212100
CREATED:20260402T024422Z
LAST-MODIFIED:20260402T024422Z
UID:3528-1790791200-1790805600@www.burnsclub.com.au
SUMMARY:Double Down
DESCRIPTION:On Wednesday nights between the hours of 6pm – 10pm redeem your member points for double the cash. \nTerms & Conditions apply\, see in-venue for details.
URL:https://www.burnsclub.com.au/event/double-down-2/2026-09-30/
LOCATION:Burns Golf Club Belconnen\, 140 Britten-Jones Drive\, Holt\, ACT\, 2615\, Australia
CATEGORIES:Belconnen
ATTACH;FMTTYPE=image/jpeg:https://www.burnsclub.com.au/wp-content/uploads/2020/11/BC_Web-Thumbs3.jpg
END:VEVENT
BEGIN:VEVENT
DTSTART;TZID=Australia/Sydney:20261001T173000
DTEND;TZID=Australia/Sydney:20261001T173000
DTSTAMP:20260422T212100
CREATED:20260402T011838Z
LAST-MODIFIED:20260402T011838Z
UID:3365-1790875800-1790875800@www.burnsclub.com.au
SUMMARY:Loaded Schnitzel Night
DESCRIPTION:On Thursday nights from 5:30pm\, indulge in one of our loaded schnitzels for only $22! \nPick from your choice of: chicken parmigiana\, mexican parmigiana\, or meat lovers parmigiana!
URL:https://www.burnsclub.com.au/event/loaded-schnitzel-night/2026-10-01/
LOCATION:ACT
CATEGORIES:Belconnen
ATTACH;FMTTYPE=image/jpeg:https://www.burnsclub.com.au/wp-content/uploads/2024/04/BC_Loaded-Schnitzel-Night-WEB.jpg
END:VEVENT
BEGIN:VEVENT
DTSTART;TZID=Australia/Sydney:20261001T173000
DTEND;TZID=Australia/Sydney:20261001T173000
DTSTAMP:20260422T212100
CREATED:20260402T024624Z
LAST-MODIFIED:20260402T024624Z
UID:3501-1790875800-1790875800@www.burnsclub.com.au
SUMMARY:Meat Raffles
DESCRIPTION:On Thursday and Friday nights we have our meat raffles\, with 12 meat trays from Elite Meats up for grabs! Tickets are on sale from 5:30pm and draws start from 7:00pm. \nTerms & Conditions apply\, see in-venue for details.
URL:https://www.burnsclub.com.au/event/meat-raffles/2026-10-01/
LOCATION:Burns Golf Club Belconnen\, 140 Britten-Jones Drive\, Holt\, ACT\, 2615\, Australia
CATEGORIES:Belconnen
ATTACH;FMTTYPE=image/jpeg:https://www.burnsclub.com.au/wp-content/uploads/2025/02/BC_Meat-Raffle-Golf-Club-WEB.jpg
END:VEVENT
BEGIN:VEVENT
DTSTART;TZID=Australia/Sydney:20261002T173000
DTEND;TZID=Australia/Sydney:20261002T173000
DTSTAMP:20260422T212100
CREATED:20260402T024624Z
LAST-MODIFIED:20260402T024624Z
UID:3502-1790962200-1790962200@www.burnsclub.com.au
SUMMARY:Meat Raffles
DESCRIPTION:On Thursday and Friday nights we have our meat raffles\, with 12 meat trays from Elite Meats up for grabs! Tickets are on sale from 5:30pm and draws start from 7:00pm. \nTerms & Conditions apply\, see in-venue for details.
URL:https://www.burnsclub.com.au/event/meat-raffles/2026-10-02/
LOCATION:Burns Golf Club Belconnen\, 140 Britten-Jones Drive\, Holt\, ACT\, 2615\, Australia
CATEGORIES:Belconnen
ATTACH;FMTTYPE=image/jpeg:https://www.burnsclub.com.au/wp-content/uploads/2025/02/BC_Meat-Raffle-Golf-Club-WEB.jpg
END:VEVENT
END:VCALENDAR