BEGIN:VCALENDAR
VERSION:2.0
PRODID:-//Canberra Burns Club - ECPv6.15.16.1//NONSGML v1.0//EN
CALSCALE:GREGORIAN
METHOD:PUBLISH
X-ORIGINAL-URL:https://www.burnsclub.com.au
X-WR-CALDESC:Events for Canberra Burns Club
REFRESH-INTERVAL;VALUE=DURATION:PT1H
X-Robots-Tag:noindex
X-PUBLISHED-TTL:PT1H
BEGIN:VTIMEZONE
TZID:Australia/Sydney
BEGIN:STANDARD
TZOFFSETFROM:+1100
TZOFFSETTO:+1000
TZNAME:AEST
DTSTART:20200404T160000
END:STANDARD
BEGIN:DAYLIGHT
TZOFFSETFROM:+1000
TZOFFSETTO:+1100
TZNAME:AEDT
DTSTART:20201003T160000
END:DAYLIGHT
BEGIN:STANDARD
TZOFFSETFROM:+1100
TZOFFSETTO:+1000
TZNAME:AEST
DTSTART:20210403T160000
END:STANDARD
BEGIN:DAYLIGHT
TZOFFSETFROM:+1000
TZOFFSETTO:+1100
TZNAME:AEDT
DTSTART:20211002T160000
END:DAYLIGHT
BEGIN:STANDARD
TZOFFSETFROM:+1100
TZOFFSETTO:+1000
TZNAME:AEST
DTSTART:20220402T160000
END:STANDARD
BEGIN:DAYLIGHT
TZOFFSETFROM:+1000
TZOFFSETTO:+1100
TZNAME:AEDT
DTSTART:20221001T160000
END:DAYLIGHT
END:VTIMEZONE
BEGIN:VEVENT
DTSTART;TZID=Australia/Sydney:20211126T193000
DTEND;TZID=Australia/Sydney:20211126T223000
DTSTAMP:20260423T012141
CREATED:20211118T000756Z
LAST-MODIFIED:20211118T001034Z
UID:971-1637955000-1637965800@www.burnsclub.com.au
SUMMARY:The Leisa Keen Band - Live at The Glen
DESCRIPTION:Leisa Keen is a prolific performer\, musical director and teacher\, having worked extensively in the Australian music industry over 25 years in jazz\, musical theatre and cabaret.\nSince 1990\, Leisa has musically directed and performed in over 150 shows\, including Beauty and the Beast\, Chess\, A Chorus Line\, Little Shop of Horrors\, West Side Story\, Jesus Christ Superstar\, Phantom Of The Opera\, Cats and many others.\nAfter training in classical piano for 12 years\, Leisa went on to study jazz vocals at the Canberra School of Music\, under the direction of Gery Scott\, for 6 years. It was here that she also gained the valuable writing and arranging skills that have assisted in her musical direction and performance\, making her one of the most sought-after accompanists and directors on the east coast\, including Canberra\, Sydney and the Gold Coast.\nBar meals available or join us after a meal in the amazing all you can eat Star Buffet.\nLive at The Glen is a newly established entertainment hub created by the Burns Club to provide locals with a first rate program of live music and other entertainment.\nWith support from the ACT and Federal Governments the Club will present a wide variety of local talent over an extensive program of events to kick start this excellent new venue.\nPerformer Enquiries to Funnell Entertainment
URL:https://www.burnsclub.com.au/event/the-leisa-keen-band-live-at-the-glen/
LOCATION:Canberra Burns\, 28 Kett St. Kambah\,\, ACT\, 2902\, Australia
CATEGORIES:Entertainment,Homepage
END:VEVENT
BEGIN:VEVENT
DTSTART;TZID=Australia/Sydney:20211121T150000
DTEND;TZID=Australia/Sydney:20211121T180000
DTSTAMP:20260423T012141
CREATED:20211104T234354Z
LAST-MODIFIED:20211105T040814Z
UID:957-1637506800-1637517600@www.burnsclub.com.au
SUMMARY:Mitch Canas - Live at The Glen
DESCRIPTION:Entertaining Canberra crowds since the early 1990’s\, Mitch is the consummate performer. Singing from an early age\, music has been a big part of Mitch’s life and just loves entertaining people wherever he goes. Combine his easy-going\, fun-loving character and a good sense of humour\, along with his passion for music\, and it truly comes across in his performance. Singing a wide variety of favourites – You will be amazed and entertained. Yes he takes requests!\nBar meals available or join us after a meal in the amazing all you can eat Star Buffet.\nLive at The Glen is a newly established entertainment hub created by the Burns Club to provide locals with a first rate program of live music and other entertainment.\nWith support from the ACT and Federal Governments the Club will present a wide variety of local talent over an extensive program of events to kick start this excellent new venue.\nPerformer Enquiries to Funnell Entertainment.
URL:https://www.burnsclub.com.au/event/mitch-canas-live-at-the-glen/
LOCATION:Canberra Burns\, 28 Kett St. Kambah\,\, ACT\, 2902\, Australia
CATEGORIES:Entertainment,Homepage
END:VEVENT
BEGIN:VEVENT
DTSTART;TZID=Australia/Sydney:20211119T193000
DTEND;TZID=Australia/Sydney:20211119T223000
DTSTAMP:20260423T012141
CREATED:20211104T233940Z
LAST-MODIFIED:20211105T040836Z
UID:955-1637350200-1637361000@www.burnsclub.com.au
SUMMARY:Now & Then - Live at The Glen
DESCRIPTION:Now and Then are an energetic and talented 4 piece band featuring two talented lead singers\, with two seasoned musicians backing them up with a combination of live instruments\, backing tracks\, and solid 4 part vocal harmonies to faithfully reproduce almost any song\, from any decade.\nTheir professionalism\, versatility and experience make them a perfect choice for weddings\, corporate events\, private parties or gig nights at your local pub or club.\nKyra and Kelly sing their hearts out to make your night a highly entertaining and enjoyable event. Their complementary voices work well with Paul’s bass and Michael’s guitar and keyboards to bring that tight live band sound we all love. Add to that excellent equipment\, programmed lighting and high quality backing tracks and you have an event to remember – bring your dancing shoes!\nBar meals available or join us after a meal in the amazing all you can eat Star Buffet.\nLive at The Glen is a newly established entertainment hub created by the Burns Club to provide locals with a first rate program of live music and other entertainment.\nWith support from the ACT and Federal Governments the Club will present a wide variety of local talent over an extensive program of events to kick start this excellent new venue.\nPerformer Enquiries to Funnell Entertainment
URL:https://www.burnsclub.com.au/event/now-then-live-at-the-glen/
LOCATION:Canberra Burns\, 28 Kett St. Kambah\,\, ACT\, 2902\, Australia
CATEGORIES:Entertainment,Homepage
END:VEVENT
BEGIN:VEVENT
DTSTART;TZID=Australia/Sydney:20211112T193000
DTEND;TZID=Australia/Sydney:20211112T223000
DTSTAMP:20260423T012141
CREATED:20211104T233235Z
LAST-MODIFIED:20211105T040937Z
UID:953-1636745400-1636756200@www.burnsclub.com.au
SUMMARY:Special K - Live at The Glen
DESCRIPTION:Special K set to kick off the Burns Club’s exciting new music program\, Live at The Glen.\nSpecial K’s journey began as a prominent local support act before quickly becoming crowd favourite headliners themselves. Energetic performances from the band’s captivating lead singer Ken have seen Special K build an outstanding live reputation and their vast vault of hits spanning five decades provides an impressive array of musical choice\, adding a splash of reggae\, funk\, soul and RnB. Come and see why this band has achieved the status of one of Canberra’s most exciting and sought after bands!\nBar meals available or join us after a meal in the amazing all you can eat Star Buffet.\nLive at The Glen is a newly established entertainment hub created by the Burns Club to provide locals with a first rate program of live music and other entertainment.\nWith support from the ACT and Federal Governments the Club will present a wide variety of local talent over an extensive program of events to kick start this excellent new venue.\nPerformer Enquiries to Funnell Entertainment.
URL:https://www.burnsclub.com.au/event/special-k-live-at-the-glen/
LOCATION:Canberra Burns\, 28 Kett St. Kambah\,\, ACT\, 2902\, Australia
CATEGORIES:Entertainment,Homepage
END:VEVENT
BEGIN:VEVENT
DTSTART;TZID=Australia/Sydney:20211107T100000
DTEND;TZID=Australia/Sydney:20211107T170000
DTSTAMP:20260423T012141
CREATED:20211104T222347Z
LAST-MODIFIED:20211105T041048Z
UID:950-1636279200-1636304400@www.burnsclub.com.au
SUMMARY:UFC 268
DESCRIPTION:UFC is back this Sunday at The Burns Club! UFC 268 will be shown live on our big screen from 10am this Sunday. With TWO title fights\, you do not want to miss this!
URL:https://www.burnsclub.com.au/event/ufc-268/
LOCATION:Canberra Burns\, 28 Kett St. Kambah\,\, ACT\, 2902\, Australia
CATEGORIES:Homepage
END:VEVENT
BEGIN:VEVENT
DTSTART;TZID=Australia/Sydney:20210707T183000
DTEND;TZID=Australia/Sydney:20210707T203000
DTSTAMP:20260423T012141
CREATED:20210629T063003Z
LAST-MODIFIED:20210629T063406Z
UID:878-1625682600-1625689800@www.burnsclub.com.au
SUMMARY:Tszyu v Zerafa
DESCRIPTION:This is a fight you do not want to miss\, and luckily for you we will be showing it live on BOTH OF OUR BIG SCREENS. So make sure that you’re here from 7pm so you don’t miss anything!!
URL:https://www.burnsclub.com.au/event/tszyu-v-zerafa/
LOCATION:Canberra Burns\, 28 Kett St. Kambah\,\, ACT\, 2902\, Australia
CATEGORIES:Homepage
END:VEVENT
BEGIN:VEVENT
DTSTART;VALUE=DATE:20210311
DTEND;VALUE=DATE:20210312
DTSTAMP:20260423T012141
CREATED:20210302T044644Z
LAST-MODIFIED:20210302T044644Z
UID:859-1615420800-1615507199@www.burnsclub.com.au
SUMMARY:NRL TIPPING COMP
DESCRIPTION:Our tipping comp is back and better than ever this year! You do not want to miss out on this one we have an AMAZING first prize and awesome bonus prizes throughout the season! \n\nCome and see our friendly staff and sign up today!\n\n\nEntry fee is $40\, first prize is $1\,000 + 2 tickets to the Grand Final\, second prize is $500\, and third prize is $100. Registration money will be given back for last place.
URL:https://www.burnsclub.com.au/event/nrl-tipping-comp/
LOCATION:ACT
END:VEVENT
BEGIN:VEVENT
DTSTART;TZID=Australia/Sydney:20210306T140000
DTEND;TZID=Australia/Sydney:20210306T170000
DTSTAMP:20260423T012141
CREATED:20210302T043701Z
LAST-MODIFIED:20210305T044517Z
UID:858-1615039200-1615050000@www.burnsclub.com.au
SUMMARY:UFC 259
DESCRIPTION:Join us for the UFC 259 is this Sunday March 7th from 2pm at the Burns Club live on our big screen. This will be a huge day of fighting featuring the UFC Light Heavy Weight Title bout between current champion Jan Blachowicz and the current UFC Middleweight Champion Israel Adesanya.
URL:https://www.burnsclub.com.au/event/ufc-259/
LOCATION:Canberra Burns\, 28 Kett St. Kambah\,\, ACT\, 2902\, Australia
END:VEVENT
BEGIN:VEVENT
DTSTART;TZID=Australia/Sydney:20210123T140000
DTEND;TZID=Australia/Sydney:20210123T170000
DTSTAMP:20260423T012141
CREATED:20210107T035422Z
LAST-MODIFIED:20210107T035754Z
UID:835-1611410400-1611421200@www.burnsclub.com.au
SUMMARY:UFC: 257 Poirier v McGregor
DESCRIPTION:Sunday 24th January\, free admission.  \nPut it in your diary and come join us to watch Conor McGregor fight in the ring again against Dustin Poirier live on our big screen Sunday 24th January! We might also have something in special in store for the day\, so make sure you come down to find out. \n 
URL:https://www.burnsclub.com.au/event/ufc-257-poirier-v-mcgregor/
LOCATION:ACT
END:VEVENT
END:VCALENDAR