BEGIN:VCALENDAR
VERSION:2.0
PRODID:-//Canberra Burns Club - ECPv6.15.16.1//NONSGML v1.0//EN
CALSCALE:GREGORIAN
METHOD:PUBLISH
X-ORIGINAL-URL:https://www.burnsclub.com.au
X-WR-CALDESC:Events for Canberra Burns Club
REFRESH-INTERVAL;VALUE=DURATION:PT1H
X-Robots-Tag:noindex
X-PUBLISHED-TTL:PT1H
BEGIN:VTIMEZONE
TZID:Australia/Sydney
BEGIN:STANDARD
TZOFFSETFROM:+1100
TZOFFSETTO:+1000
TZNAME:AEST
DTSTART:20210403T160000
END:STANDARD
BEGIN:DAYLIGHT
TZOFFSETFROM:+1000
TZOFFSETTO:+1100
TZNAME:AEDT
DTSTART:20211002T160000
END:DAYLIGHT
BEGIN:STANDARD
TZOFFSETFROM:+1100
TZOFFSETTO:+1000
TZNAME:AEST
DTSTART:20220402T160000
END:STANDARD
BEGIN:DAYLIGHT
TZOFFSETFROM:+1000
TZOFFSETTO:+1100
TZNAME:AEDT
DTSTART:20221001T160000
END:DAYLIGHT
BEGIN:STANDARD
TZOFFSETFROM:+1100
TZOFFSETTO:+1000
TZNAME:AEST
DTSTART:20230401T160000
END:STANDARD
BEGIN:DAYLIGHT
TZOFFSETFROM:+1000
TZOFFSETTO:+1100
TZNAME:AEDT
DTSTART:20230930T160000
END:DAYLIGHT
BEGIN:STANDARD
TZOFFSETFROM:+1100
TZOFFSETTO:+1000
TZNAME:AEST
DTSTART:20240406T160000
END:STANDARD
BEGIN:DAYLIGHT
TZOFFSETFROM:+1000
TZOFFSETTO:+1100
TZNAME:AEDT
DTSTART:20241005T160000
END:DAYLIGHT
BEGIN:STANDARD
TZOFFSETFROM:+1100
TZOFFSETTO:+1000
TZNAME:AEST
DTSTART:20250405T160000
END:STANDARD
BEGIN:DAYLIGHT
TZOFFSETFROM:+1000
TZOFFSETTO:+1100
TZNAME:AEDT
DTSTART:20251004T160000
END:DAYLIGHT
END:VTIMEZONE
BEGIN:VEVENT
DTSTART;TZID=Australia/Sydney:20240126T193000
DTEND;TZID=Australia/Sydney:20240126T223000
DTSTAMP:20260426T044651
CREATED:20231228T042134Z
LAST-MODIFIED:20231228T042136Z
UID:1987-1706297400-1706308200@www.burnsclub.com.au
SUMMARY:Metropolis
DESCRIPTION:Oz Rock champions\, Metropolis return to rock the Glen and give you a massive dose of your favourite OZ rock classics in a special Australia Day show!\nBar meals available or join us after a meal in the amazing all you can eat Star Buffet.\nLive at The Glen has become a widely appreciated entertainment hub created by the Burns Club to provide locals with a first-rate program of live music and other entertainment.\nPerformer Enquiries to Funnell Entertainment.
URL:https://www.burnsclub.com.au/event/metropolis-2/
LOCATION:Canberra Burns\, 28 Kett St. Kambah\,\, ACT\, 2902\, Australia
CATEGORIES:Entertainment,Homepage
ATTACH;FMTTYPE=image/jpeg:https://www.burnsclub.com.au/wp-content/uploads/2022/04/BC_WEB9.jpg
END:VEVENT
BEGIN:VEVENT
DTSTART;TZID=Australia/Sydney:20240120T190000
DTEND;TZID=Australia/Sydney:20240120T220000
DTSTAMP:20260426T044651
CREATED:20231228T041759Z
LAST-MODIFIED:20231228T041801Z
UID:1986-1705777200-1705788000@www.burnsclub.com.au
SUMMARY:Special K
DESCRIPTION:Special K’s journey began as a prominent local support act before quickly becoming crowd favourite headliners themselves. Energetic performances from the band’s captivating lead singer Ken have seen Special K build an outstanding live reputation and their vast vault of hits spanning five decades provides an impressive array of musical choice\, adding a splash of reggae\, funk\, soul and RnB. Come and see why this band has achieved the status of one of Canberra’s most exciting and sought-after bands!\nBar meals available or join us after a meal in the amazing all you can eat Star Buffet.\nLive at The Glen has become a widely appreciated entertainment hub created by the Burns Club to provide locals with a first-rate program of live music and other entertainment.\nPerformer Enquiries to Funnell Entertainment.
URL:https://www.burnsclub.com.au/event/special-k-3/
LOCATION:Canberra Burns\, 28 Kett St. Kambah\,\, ACT\, 2902\, Australia
CATEGORIES:Entertainment,Homepage
ATTACH;FMTTYPE=image/jpeg:https://www.burnsclub.com.au/wp-content/uploads/2022/03/Special-K-Band-WEB.jpg
END:VEVENT
BEGIN:VEVENT
DTSTART;TZID=Australia/Sydney:20240119T193000
DTEND;TZID=Australia/Sydney:20240119T223000
DTSTAMP:20260426T044651
CREATED:20231228T041448Z
LAST-MODIFIED:20231228T041451Z
UID:1985-1705692600-1705703400@www.burnsclub.com.au
SUMMARY:Socialites
DESCRIPTION:Socialites have been on the Canberra music scene over the past 11 years. During that time\, they have become one of the region’s most popular bands. Featuring the extraordinary vocal and sax talents of Neille Williams\, with Jamie Wilson (Guitar/Vocals) and Steve Collings\, (Drums/vocals). Combining many years of onstage performing experience\, superb vocal harmonies and a strong focus on entertainment\, Socialites are a band not to be missed.\nBar meals available or join us after a meal in the amazing all you can eat Star Buffet.\nLive at The Glen has become a widely appreciated entertainment hub created by the Burns Club to provide locals with a first-rate program of live music and other entertainment.\nPerformer Enquiries to Funnell Entertainment.
URL:https://www.burnsclub.com.au/event/socialites/
LOCATION:Canberra Burns\, 28 Kett St. Kambah\,\, ACT\, 2902\, Australia
CATEGORIES:Entertainment,Homepage
ATTACH;FMTTYPE=image/jpeg:https://www.burnsclub.com.au/wp-content/uploads/2023/01/BC_Live-Music-SOCIALISTS-WEB.jpg
END:VEVENT
BEGIN:VEVENT
DTSTART;TZID=Australia/Sydney:20240113T190000
DTEND;TZID=Australia/Sydney:20240113T220000
DTSTAMP:20260426T044651
CREATED:20231228T041115Z
LAST-MODIFIED:20231228T041118Z
UID:1984-1705172400-1705183200@www.burnsclub.com.au
SUMMARY:Hit Parade
DESCRIPTION:Hit Parade is a sophisticated 4-piece line-up featuring live guitar instrumentation\, 2 male and 2 female lead vocals to give the band the strong\, rich four-part harmony sound. It’s no wonder that Hit Parade have become one of Canberra’s most sought-after acts!\nBar meals available or join us after a meal in the amazing all you can eat Star Buffet.\nLive at The Glen has become a widely appreciated entertainment hub created by the Burns Club to provide locals with a first-rate program of live music and other entertainment.\nPerformer Enquiries to Funnell Entertainment.
URL:https://www.burnsclub.com.au/event/hit-parade-3/
LOCATION:Canberra Burns\, 28 Kett St. Kambah\,\, ACT\, 2902\, Australia
CATEGORIES:Entertainment,Homepage
ATTACH;FMTTYPE=image/jpeg:https://www.burnsclub.com.au/wp-content/uploads/2022/02/Hit-Parade-WEB.jpg
END:VEVENT
BEGIN:VEVENT
DTSTART;TZID=Australia/Sydney:20240106T190000
DTEND;TZID=Australia/Sydney:20240106T220000
DTSTAMP:20260426T044651
CREATED:20231228T040801Z
LAST-MODIFIED:20231228T040804Z
UID:1982-1704567600-1704578400@www.burnsclub.com.au
SUMMARY:Leisa Keen Band
DESCRIPTION:Don’t miss one of Australia’s best vocalists\, local legend Leisa Keen! Leisa Keen is a prolific performer\, musical director and teacher\, having worked extensively in the Australian music industry over 25 years in jazz\, musical theatre and cabaret.\nSince 1990\, Leisa has musically directed and performed in over 150 shows\, including Beauty and the Beast\, Chess\, A Chorus Line\, Little Shop of Horrors\, West Side Story\, Jesus Christ Superstar\, Phantom Of The Opera\, Cats and many others.\nAfter training in classical piano for 12 years\, Leisa went on to study jazz vocals at the Canberra School of Music\, under the direction of Gery Scott\, for 6 years. It was here that she also gained the valuable writing and arranging skills that have assisted in her musical direction and performance\, making her one of the most sought-after accompanists and directors on the east coast\, including Canberra\, Sydney and the Gold Coast.\nBar meals available or join us after a meal in the amazing all you can eat Star Buffet.\nLive at The Glen has become a widely appreciated entertainment hub created by the Burns Club to provide locals with a first-rate program of live music and other entertainment.\nPerformer Enquiries to Funnell Entertainment.
URL:https://www.burnsclub.com.au/event/leisa-keen-band-2/
LOCATION:Canberra Burns\, 28 Kett St. Kambah\,\, ACT\, 2902\, Australia
CATEGORIES:Entertainment,Homepage
ATTACH;FMTTYPE=image/jpeg:https://www.burnsclub.com.au/wp-content/uploads/2022/02/Leisa-Keen-Band-WEB.jpg
END:VEVENT
BEGIN:VEVENT
DTSTART;TZID=Australia/Sydney:20240105T193000
DTEND;TZID=Australia/Sydney:20240105T223000
DTSTAMP:20260426T044651
CREATED:20231228T040527Z
LAST-MODIFIED:20231228T040529Z
UID:1981-1704483000-1704493800@www.burnsclub.com.au
SUMMARY:71 Model
DESCRIPTION:Local dance band\, 71 Model bonded over their shared passions for sounds of their generation. Each member brings a unique musical aesthetic to the band and with over 100 Party Cover songs\, they will guarantee a great night for rockers of all ages.\nBar meals available or join us after a meal in the amazing all you can eat Star Buffet.\nLive at The Glen has become a widely appreciated entertainment hub created by the Burns Club to provide locals with a first-rate program of live music and other entertainment.\nPerformer Enquiries to Funnell Entertainment.
URL:https://www.burnsclub.com.au/event/71-model-2/
LOCATION:Canberra Burns\, 28 Kett St. Kambah\,\, ACT\, 2902\, Australia
CATEGORIES:Entertainment,Homepage
ATTACH;FMTTYPE=image/jpeg:https://www.burnsclub.com.au/wp-content/uploads/2023/01/71-Model.jpg
END:VEVENT
BEGIN:VEVENT
DTSTART;TZID=Australia/Sydney:20221016T150000
DTEND;TZID=Australia/Sydney:20221016T180000
DTSTAMP:20260426T044651
CREATED:20220927T065744Z
LAST-MODIFIED:20221014T014318Z
UID:1412-1665932400-1665943200@www.burnsclub.com.au
SUMMARY:Humbug - Live at The Glen
DESCRIPTION:Humbug has been one of Canberra’s most accomplished an popular Celtic orientated bands for many years. Featuring lush vocal harmonies and haunting instrumental backing\, its extensive repertoire of mainly Celtic material includes old and new songs\, traditional and non-traditional\, ranging from soulful ballads to toe tapping singalongs. Something for everyone!\nBar meals available or join us after a meal in the amazing all you can eat Star Buffet.\nLive at The Glen has become a widely appreciated entertainment hub created by the Burns Club to provide locals with a first-rate program of live music and other entertainment.\nPerformer Enquiries to Funnell Entertainment
URL:https://www.burnsclub.com.au/event/code-red-duo-live-at-the-glen-2/
LOCATION:Canberra Burns\, 28 Kett St. Kambah\,\, ACT\, 2902\, Australia
CATEGORIES:Entertainment,Homepage
ATTACH;FMTTYPE=image/jpeg:https://www.burnsclub.com.au/wp-content/uploads/2022/09/Humbug-WEB.jpg
END:VEVENT
BEGIN:VEVENT
DTSTART;TZID=Australia/Sydney:20221015T190000
DTEND;TZID=Australia/Sydney:20221015T220000
DTSTAMP:20260426T044651
CREATED:20220927T065353Z
LAST-MODIFIED:20220927T065355Z
UID:1411-1665860400-1665871200@www.burnsclub.com.au
SUMMARY:Drinking Lizards - Live at The Glen
DESCRIPTION:Featuring the powerhouse lead vocals of a club favourite\, Ven Licciardello (Vendetta and the Dettas) Local Rock band Drinking Lizards are set to play their Glen debut with an energetic show of rock power ballads and classic pub rock hits that is bound to thrill and get you on your feet.\nBar meals available or join us after a meal in the amazing all you can eat Star Buffet.\nLive at The Glen has become a widely appreciated entertainment hub created by the Burns Club to provide locals with a first-rate program of live music and other entertainment.\nPerformer Enquiries to Funnell Entertainment.
URL:https://www.burnsclub.com.au/event/drinking-lizards-live-at-the-glen/
LOCATION:Canberra Burns\, 28 Kett St. Kambah\,\, ACT\, 2902\, Australia
CATEGORIES:Entertainment,Homepage
ATTACH;FMTTYPE=image/jpeg:https://www.burnsclub.com.au/wp-content/uploads/2022/08/drinking-lizards-WEB.jpg
END:VEVENT
BEGIN:VEVENT
DTSTART;TZID=Australia/Sydney:20221014T190000
DTEND;TZID=Australia/Sydney:20221014T220000
DTSTAMP:20260426T044651
CREATED:20220927T065050Z
LAST-MODIFIED:20220927T065051Z
UID:1410-1665774000-1665784800@www.burnsclub.com.au
SUMMARY:Fractured Minds - Live at The Glen
DESCRIPTION:NSW Touring act Fractured Minds in their first Canberra Show\nFractured Minds are an exciting new hard rock band born in a small boutique studio at Bermagui. The band is made up of a talented team of creative musicians who perform original compositions with 3 single released and their first album on the way. Since uniting their efforts in 2019\, the members of the group have captivated fans with their signature sound that has taken the local music scene by storm.\nWith their proficient take on covers along with their original songs such as Easy Money and Crave Fractured minds weave in and out of rock styles capturing the essence of The Angles\, AC/CD\, Baby Animals\, The Screaming Jets\, Billy Idol\, Killing Heidi\, Queen and so much more.\nFractured Minds have a connection which is exuberated on stage. Their love for music and energy speaks for itself in their live performances which have been met with praise at every show.\nBar meals available or join us after a meal in the amazing all you can eat Star Buffet.\nLive at The Glen has become a widely appreciated entertainment hub created by the Burns Club to provide locals with a first-rate program of live music and other entertainment.\nPerformer Enquiries to Funnell Entertainment.
URL:https://www.burnsclub.com.au/event/fractured-minds-live-at-the-glen/
LOCATION:Canberra Burns\, 28 Kett St. Kambah\,\, ACT\, 2902\, Australia
CATEGORIES:Entertainment,Homepage
ATTACH;FMTTYPE=image/jpeg:https://www.burnsclub.com.au/wp-content/uploads/2022/09/FRACTURED-MINDS.jpg
END:VEVENT
BEGIN:VEVENT
DTSTART;TZID=Australia/Sydney:20221009T150000
DTEND;TZID=Australia/Sydney:20221009T180000
DTSTAMP:20260426T044651
CREATED:20220927T064634Z
LAST-MODIFIED:20220927T064636Z
UID:1409-1665327600-1665338400@www.burnsclub.com.au
SUMMARY:Andrew Rigo - Live at The Glen
DESCRIPTION:Andrew Rigo is a veteran solo performer originally from Melbourne who is now relocating to Canberra permanently. He presents an engaging full sound and rich vocals across a superb range of classic pub n club favourites that make you wanna dance and keep you enthralled and singing along (at least when allowed to!)\nBar meals available or join us after a meal in the amazing all you can eat Star Buffet.\nLive at The Glen has become a widely appreciated entertainment hub created by the Burns Club to provide locals with a first-rate program of live music and other entertainment.\nPerformer Enquiries to Funnell Entertainment.
URL:https://www.burnsclub.com.au/event/andrew-rigo-live-at-the-glen-3/
LOCATION:Canberra Burns\, 28 Kett St. Kambah\,\, ACT\, 2902\, Australia
CATEGORIES:Entertainment,Homepage
ATTACH;FMTTYPE=image/jpeg:https://www.burnsclub.com.au/wp-content/uploads/2022/02/Andrew-Rigo-WEB.jpg
END:VEVENT
BEGIN:VEVENT
DTSTART;TZID=Australia/Sydney:20221008T190000
DTEND;TZID=Australia/Sydney:20221008T220000
DTSTAMP:20260426T044651
CREATED:20220927T064220Z
LAST-MODIFIED:20220927T064222Z
UID:1408-1665255600-1665266400@www.burnsclub.com.au
SUMMARY:Cassidy's Ceili - Live at The Glen
DESCRIPTION:Canberra’s finest cross over act Cassidy’s Ceili play Celtic and contemporary folk music with such energy and panache that you can’t resist partying along with them!\nA highly interactive performer\, Cassidy enjoys getting to know the audience and her superb lead vocals will take you from delicate ballads to full-on party\, with everything from Danny Boy to The Pogues! A truly different and unique act that thrills every audience!\nBar meals available or join us after a meal in the amazing all you can eat Star Buffet.\nLive at The Glen has become a widely appreciated entertainment hub created by the Burns Club to provide locals with a first-rate program of live music and other entertainment.\nPerformer Enquiries to Funnell Entertainment.
URL:https://www.burnsclub.com.au/event/cassidys-ceili-live-at-the-glen-3/
LOCATION:Canberra Burns\, 28 Kett St. Kambah\,\, ACT\, 2902\, Australia
CATEGORIES:Entertainment,Homepage
ATTACH;FMTTYPE=image/jpeg:https://www.burnsclub.com.au/wp-content/uploads/2022/04/BC_WEB3.jpg
END:VEVENT
BEGIN:VEVENT
DTSTART;TZID=Australia/Sydney:20221007T190000
DTEND;TZID=Australia/Sydney:20221007T220000
DTSTAMP:20260426T044651
CREATED:20220927T063756Z
LAST-MODIFIED:20220927T063758Z
UID:1407-1665169200-1665180000@www.burnsclub.com.au
SUMMARY:Red Hector - Live at The Glen
DESCRIPTION:Red Hector bring the fun\, dancing and good times with their authentic pub rock act chock full of classic hits from Midnight Oil\, Icehouse\, AC/DC\, Hunters and Collectors\, Grinspoon\, Chisel\, The Cars\, and a ton of infectious tunes to rock your night!!\nBar meals available or join us after a meal in the amazing all you can eat Star Buffet.\nLive at The Glen has become a widely appreciated entertainment hub created by the Burns Club to provide locals with a first-rate program of live music and other entertainment.\nPerformer Enquiries to Funnell Entertainment.
URL:https://www.burnsclub.com.au/event/red-hector-live-at-the-glen/
LOCATION:Canberra Burns\, 28 Kett St. Kambah\,\, ACT\, 2902\, Australia
CATEGORIES:Entertainment,Homepage
ATTACH;FMTTYPE=image/jpeg:https://www.burnsclub.com.au/wp-content/uploads/2022/09/RED-HECTOR.jpg
END:VEVENT
BEGIN:VEVENT
DTSTART;TZID=Australia/Sydney:20220122T183000
DTEND;TZID=Australia/Sydney:20220122T210000
DTSTAMP:20260426T044651
CREATED:20220106T041407Z
LAST-MODIFIED:20220106T041408Z
UID:1046-1642876200-1642885200@www.burnsclub.com.au
SUMMARY:Robert Burns Supper 2022
DESCRIPTION:We have a very exciting night planned to celebrate the life of Robert Burns\, including music by Cassidy’s Ceili\, and the Burns Club Pipe band\, as well as many guest speakers throughout the night. Not only that\, we will also be having complimentary food and whisky tasting for everyone throughout the night. \nIf you are interested in attending\, please call the club on 6296 2425 to let us know. \n 
URL:https://www.burnsclub.com.au/event/robert-burns-supper-2022/
CATEGORIES:Entertainment,Homepage
ATTACH;FMTTYPE=image/jpeg:https://www.burnsclub.com.au/wp-content/uploads/2022/01/BC_Burns-Supper-WEB.jpg
END:VEVENT
END:VCALENDAR